!table
!version 300
!charset WindowsLatin1

Definition Table
  File "PolenNE.jpg"
  Type "RASTER"
  (468040.000000, 736150.000000) (0, 0) Label "NW",
  (468040.000000, 537900.000000) (0, 793) Label "SW",
  (834040.000000, 736150.000000) (1464, 0) Label "NE",
  (834040.000000, 537900.000000) (1464, 793) Label "SE"
  CoordSys Earth Projection 8, 104, "m", 19, 0, 0.9993, 500000, -5300000
  Units "m"
