!table
!version 300
!charset WindowsLatin1

Definition Table
  File "HaraldstedSkov-kombi1.jpg"
  Type "RASTER"
  (676600.000000, 6155200.000000) (0, 0) Label "NW",
  (676600.000000, 6154001.600000) (0, 749) Label "SW",
  (677998.400000, 6155200.000000) (874, 0) Label "NE",
  (677998.400000, 6154001.600000) (874, 749) Label "SE"
  CoordSys Earth Projection 8, 104, "m", 9, 0, 0.9996, 500000, 0
  Units "m"
